BEGIN:VCALENDAR
VERSION:2.0
PRODID:-//Chicago Appleseed Center for Fair Courts - ECPv6.15.20//NONSGML v1.0//EN
CALSCALE:GREGORIAN
METHOD:PUBLISH
X-WR-CALNAME:Chicago Appleseed Center for Fair Courts
X-ORIGINAL-URL:https://www.chicagoappleseed.org
X-WR-CALDESC:Events for Chicago Appleseed Center for Fair Courts
REFRESH-INTERVAL;VALUE=DURATION:PT1H
X-Robots-Tag:noindex
X-PUBLISHED-TTL:PT1H
BEGIN:VTIMEZONE
TZID:America/Chicago
BEGIN:DAYLIGHT
TZOFFSETFROM:-0600
TZOFFSETTO:-0500
TZNAME:CDT
DTSTART:20200308T080000
END:DAYLIGHT
BEGIN:STANDARD
TZOFFSETFROM:-0500
TZOFFSETTO:-0600
TZNAME:CST
DTSTART:20201101T070000
END:STANDARD
BEGIN:DAYLIGHT
TZOFFSETFROM:-0600
TZOFFSETTO:-0500
TZNAME:CDT
DTSTART:20210314T080000
END:DAYLIGHT
BEGIN:STANDARD
TZOFFSETFROM:-0500
TZOFFSETTO:-0600
TZNAME:CST
DTSTART:20211107T070000
END:STANDARD
BEGIN:DAYLIGHT
TZOFFSETFROM:-0600
TZOFFSETTO:-0500
TZNAME:CDT
DTSTART:20220313T080000
END:DAYLIGHT
BEGIN:STANDARD
TZOFFSETFROM:-0500
TZOFFSETTO:-0600
TZNAME:CST
DTSTART:20221106T070000
END:STANDARD
END:VTIMEZONE
BEGIN:VEVENT
DTSTART;TZID=America/Chicago:20210803T150000
DTEND;TZID=America/Chicago:20210803T163000
DTSTAMP:20260423T113945
CREATED:20201124T162614Z
LAST-MODIFIED:20210728T143050Z
UID:13464-1628002800-1628008200@www.chicagoappleseed.org
SUMMARY:Family Law Committee Monthly Meeting
DESCRIPTION:The Family Law Committee typically meets on the first Tuesday of every month at 3 PM (CST) to examine issues of domestic relations\, child support enforcement\, and domestic violence in Cook County. Click here for more.  \nNOTE: Family Law Committee Meeting times/call-in information frequently changes. Please fill out this form to make sure you receive the most up-to-date information about monthly meetings.
URL:https://www.chicagoappleseed.org/event/family-law/
LOCATION:Zoom – Video Conference
CATEGORIES:Collaboration for Justice Committee Meetings
END:VEVENT
END:VCALENDAR