BEGIN:VCALENDAR
VERSION:2.0
PRODID:-//Chicago Appleseed Center for Fair Courts - ECPv6.15.20//NONSGML v1.0//EN
CALSCALE:GREGORIAN
METHOD:PUBLISH
X-ORIGINAL-URL:https://www.chicagoappleseed.org
X-WR-CALDESC:Events for Chicago Appleseed Center for Fair Courts
REFRESH-INTERVAL;VALUE=DURATION:PT1H
X-Robots-Tag:noindex
X-PUBLISHED-TTL:PT1H
BEGIN:VTIMEZONE
TZID:America/Chicago
BEGIN:DAYLIGHT
TZOFFSETFROM:-0600
TZOFFSETTO:-0500
TZNAME:CDT
DTSTART:20240310T080000
END:DAYLIGHT
BEGIN:STANDARD
TZOFFSETFROM:-0500
TZOFFSETTO:-0600
TZNAME:CST
DTSTART:20241103T070000
END:STANDARD
BEGIN:DAYLIGHT
TZOFFSETFROM:-0600
TZOFFSETTO:-0500
TZNAME:CDT
DTSTART:20250309T080000
END:DAYLIGHT
BEGIN:STANDARD
TZOFFSETFROM:-0500
TZOFFSETTO:-0600
TZNAME:CST
DTSTART:20251102T070000
END:STANDARD
BEGIN:DAYLIGHT
TZOFFSETFROM:-0600
TZOFFSETTO:-0500
TZNAME:CDT
DTSTART:20260308T080000
END:DAYLIGHT
BEGIN:STANDARD
TZOFFSETFROM:-0500
TZOFFSETTO:-0600
TZNAME:CST
DTSTART:20261101T070000
END:STANDARD
END:VTIMEZONE
BEGIN:VEVENT
DTSTART;TZID=America/Chicago:20251110T180000
DTEND;TZID=America/Chicago:20251110T210000
DTSTAMP:20260423T110342
CREATED:20251003T221426Z
LAST-MODIFIED:20251006T225202Z
UID:19732-1762797600-1762808400@www.chicagoappleseed.org
SUMMARY:November 10\, 2025: Cultivating Seeds of Change
DESCRIPTION:Cultivating Seeds of Change\nFrom policy to practice\, we’re planting the seeds that transform courts\, communities\, and culture. \nJoin Chicago Appleseed Center for Fair Courts and the Chicago Council of Lawyers for our annual fall fundraiser on Monday\, November 10 at 6:00 pm at the Ivy Room (12 E Ohio St\, Chicago\, IL 60611) to celebrate where we’ve been and where we’re going—and how we’re staying rooted in justice along the way.  \nWe’re thrilled to welcome Cook County Board President Toni Preckwinkle as our guest of honor\, who we’ll be presenting with a Lifetime Achievement Award for her decades-long commitment to promoting policies and practices to improve equity and accessible justice. President Preckwinkle and Cook County Public Defender Sharone Mitchell\, Jr.\, will join us as featured speakers. \n\n\n\n\n\nRSVP: https://secure.chicagoappleseed.org/forms/tickets\nSponsor: https://secure.chicagoappleseed.org/forms/sponsorships\n\nClick here for more details about becoming a sponsor.\n\n\n\n\n\n\n\nChicago Appleseed Center for Fair Courts is a nonpartisan\, tax-exempt 501(c)(3) nonprofit organization. We do not endorse\, support\, or oppose any candidate for public office. Any views and opinions expressed by speaker(s)/participant(s) are their own and do not necessarily reflect those of Chicago Appleseed\, its staff\, or the Board of Directors. All donations to Chicago Appleseed are tax-deductible\, less the cost of services rendered\, and will be used for charitable purposes consistent with our mission.
URL:https://www.chicagoappleseed.org/event/november-10-2025-cultivating-seeds-of-change/
LOCATION:Ivy Room Chicago\, 12 East Ohio Street\, Unit 100\, Chicago\, 60611\, United States
CATEGORIES:Annual Fundraiser,Fundraiser
END:VEVENT
BEGIN:VEVENT
DTSTART;TZID=America/Chicago:20250930T180000
DTEND;TZID=America/Chicago:20250930T230000
DTSTAMP:20260423T110342
CREATED:20250729T174128Z
LAST-MODIFIED:20250730T162710Z
UID:19243-1759255200-1759273200@www.chicagoappleseed.org
SUMMARY:Karaoke Night Fundraiser: Raise Your Voice for Advocacy!
DESCRIPTION:Join us on Tuesday\, September 30th\, at Gman Tavern (3740 N Clark Street) for a night of karaoke and fun in support of our advocacy!\nFundraiser begins at 6:00 pm with song requests for $5 each beginning at 6:30—stick around until 10:00 pm to bid on the last song of the night.\n \nWalk-ins are welcome but space isn’t guaranteed unless you register in advance here.\n\n\n\nAdvance tickets are $15 each and guarantee your spot on 9/30.\nFor $20\, you can guarantee your spot at the fundraiser and reserve one song ticket in advance.\nAdditional song tickets will be sold at the event for $5 each. Check out Pop Up Karaoke’s catalogue of 70\,000+ songs at PopUpKaraoke.com.\nYou can purchase additional song tickets in blocks of 5 online when you purchase your event ticket. Song tickets are transferable but non-refundable! Share them with your friends or donate unused song tickets back to support our work. (We estimate 10-12 singers can take the stage per hour.)\n\n\n\nAny additional donations go to support our mission to interrupt cycles of poverty\, mass incarceration\, and racial injustice in the legal system. To donate or learn about becoming an event sponsor\, visit this link.
URL:https://www.chicagoappleseed.org/event/karaoke-night/
LOCATION:Gman Tavern\, 3740 N Clark St\, Chicago\, IL\, 60613
CATEGORIES:Fundraiser
ATTACH;FMTTYPE=image/png:https://www.chicagoappleseed.org/wp-content/uploads/2025/07/2025_Karaoke-Banner.png
END:VEVENT
END:VCALENDAR