BEGIN:VCALENDAR
VERSION:2.0
PRODID:-//Chicago Appleseed Center for Fair Courts - ECPv6.15.20//NONSGML v1.0//EN
CALSCALE:GREGORIAN
METHOD:PUBLISH
X-WR-CALNAME:Chicago Appleseed Center for Fair Courts
X-ORIGINAL-URL:https://www.chicagoappleseed.org
X-WR-CALDESC:Events for Chicago Appleseed Center for Fair Courts
REFRESH-INTERVAL;VALUE=DURATION:PT1H
X-Robots-Tag:noindex
X-PUBLISHED-TTL:PT1H
BEGIN:VTIMEZONE
TZID:America/Chicago
BEGIN:DAYLIGHT
TZOFFSETFROM:-0600
TZOFFSETTO:-0500
TZNAME:CDT
DTSTART:20200308T080000
END:DAYLIGHT
BEGIN:STANDARD
TZOFFSETFROM:-0500
TZOFFSETTO:-0600
TZNAME:CST
DTSTART:20201101T070000
END:STANDARD
BEGIN:DAYLIGHT
TZOFFSETFROM:-0600
TZOFFSETTO:-0500
TZNAME:CDT
DTSTART:20210314T080000
END:DAYLIGHT
BEGIN:STANDARD
TZOFFSETFROM:-0500
TZOFFSETTO:-0600
TZNAME:CST
DTSTART:20211107T070000
END:STANDARD
BEGIN:DAYLIGHT
TZOFFSETFROM:-0600
TZOFFSETTO:-0500
TZNAME:CDT
DTSTART:20220313T080000
END:DAYLIGHT
BEGIN:STANDARD
TZOFFSETFROM:-0500
TZOFFSETTO:-0600
TZNAME:CST
DTSTART:20221106T070000
END:STANDARD
BEGIN:DAYLIGHT
TZOFFSETFROM:-0600
TZOFFSETTO:-0500
TZNAME:CDT
DTSTART:20230312T080000
END:DAYLIGHT
BEGIN:STANDARD
TZOFFSETFROM:-0500
TZOFFSETTO:-0600
TZNAME:CST
DTSTART:20231105T070000
END:STANDARD
BEGIN:DAYLIGHT
TZOFFSETFROM:-0600
TZOFFSETTO:-0500
TZNAME:CDT
DTSTART:20240310T080000
END:DAYLIGHT
BEGIN:STANDARD
TZOFFSETFROM:-0500
TZOFFSETTO:-0600
TZNAME:CST
DTSTART:20241103T070000
END:STANDARD
BEGIN:DAYLIGHT
TZOFFSETFROM:-0600
TZOFFSETTO:-0500
TZNAME:CDT
DTSTART:20250309T080000
END:DAYLIGHT
BEGIN:STANDARD
TZOFFSETFROM:-0500
TZOFFSETTO:-0600
TZNAME:CST
DTSTART:20251102T070000
END:STANDARD
END:VTIMEZONE
BEGIN:VEVENT
DTSTART;TZID=America/Chicago:20240718T180000
DTEND;TZID=America/Chicago:20240718T210000
DTSTAMP:20260423T085003
CREATED:20240404T230042Z
LAST-MODIFIED:20240620T151446Z
UID:17723-1721325600-1721336400@www.chicagoappleseed.org
SUMMARY:July 18\, 2024 | Creating the Future of Justice Summer Social
DESCRIPTION:On Thursday\, July 18\, 2024\, Chicago Appleseed Center for Fair Courts and the Chicago Council of Lawyers will host a summer social celebrating our Future Justice Lawyers of Chicago and the people who make the program possible! Join us and the next generation of justice-minded advocates\, their lawyer advisors\, family\, and friends at Bridge 410 (410 N Paulina Street).\nWe’ll have food trucks\, drinks\, lawn games\, and a silent raffle and auction starting at 6:00 PM. Family members of any age are welcome!\n📌 Get your tickets here.\n📌 Click here to become a sponsor. Details about sponsorships can be found here.
URL:https://www.chicagoappleseed.org/event/2024-july-summer-social/
LOCATION:Bridge 410\, 410 N Paulina\, Chicago\, IL
CATEGORIES:Annual Fundraiser,Pro Bono Spotlight
ATTACH;FMTTYPE=image/png:https://www.chicagoappleseed.org/wp-content/uploads/2024/04/corrected-banner-of-Summer-Social-Flyer-Square.png
END:VEVENT
BEGIN:VEVENT
DTSTART;TZID=America/Chicago:20230608T180000
DTEND;TZID=America/Chicago:20230608T210000
DTSTAMP:20260423T085003
CREATED:20230310T180655Z
LAST-MODIFIED:20230421T172933Z
UID:17019-1686247200-1686258000@www.chicagoappleseed.org
SUMMARY:Commitment to Justice Awards
DESCRIPTION:Join Chicago Appleseed Center for Fair Courts and the Chicago Council of Lawyers on Thursday\, June 8\, 2023\, we will gather at the Ivy Room (12 East Ohio Street\, Chicago) for our annual Commitment to Justice Awards to honor community and pro bono partners who have shown extraordinary commitments to racial and economic justice: \n\n\n\nCommitment to Justice Award: Illinois State Senator Robert Peters\nPartner in Justice Award: Matt McLoughlin\, organizer with the Coalition to End Money Bond & Illinois Network for Pretrial Justice\nPro Bono Dedication Awards: DLA Piper\, Kirkland & Ellis\, and Lotis Blue Consulting\n\n\n\nChicago Appleseed Center for Fair Courts Board Member and author of Crook County: Racism and Injustice in America’s Largest Criminal Court (2017) and The Waiting Room (2018)\, Dr. Nicole Gonzalez Van Cleve\, will give the keynote address at the event. \nInformation about the event is included below: \n\n\n\nWhen: Thursday\, June 8\, 2023 at 6:00 PM\nWhere: Ivy Room Chicago (12 East Ohio Street\, Chicago\, IL 60611)\nRegister: Click here or go to ChicagoAppleseed.org/Register to purchase individual tickets. Individual ticket prices range from $25 to $200 per person on a sliding scale.\n\n\n\nWant to support us this June as an event sponsor? Click here or go to ChicagoAppleseed.org/Sponsor to support.
URL:https://www.chicagoappleseed.org/event/june-2023/
CATEGORIES:Annual Fundraiser,Pro Bono Spotlight
END:VEVENT
BEGIN:VEVENT
DTSTART;TZID=America/Chicago:20220621T180000
DTEND;TZID=America/Chicago:20220621T210000
DTSTAMP:20260423T085003
CREATED:20220411T201442Z
LAST-MODIFIED:20220623T151308Z
UID:15752-1655834400-1655845200@www.chicagoappleseed.org
SUMMARY:Seeds of Justice Event
DESCRIPTION:On June 21\, 2022\, at 6:00 PM\, Chicago Appleseed Center for Fair Courts and the Chicago Council of Lawyers hosted their Seeds of Justice event\, which honored Sharone Mitchell\, Jr.\, the Cook County Public Defender\, for his commitment to ensuring equitable and accessible justice for all people in Cook County.  \nCLICK HERE TO WATCH SHARONE MITCHELL\, JR.’S ACCEPTANCE SPEECH.\nFormer Inspector General for the City of Chicago\, Joe Ferguson\, gave the keynote address. \nCLICK HERE TO WATCH JOE FERGUSON’S KEYNOTE PRESENTATION.\n  \nClick here for the event flyer.
URL:https://www.chicagoappleseed.org/event/seeds-of-justice/
CATEGORIES:Pro Bono Spotlight
ATTACH;FMTTYPE=image/png:https://www.chicagoappleseed.org/wp-content/uploads/2022/04/Screen-Shot-2022-04-11-at-3.15.02-PM.png
END:VEVENT
BEGIN:VEVENT
DTSTART;TZID=America/Chicago:20210519T120000
DTEND;TZID=America/Chicago:20210519T130000
DTSTAMP:20260423T085003
CREATED:20210216T163625Z
LAST-MODIFIED:20210407T135047Z
UID:14308-1621425600-1621429200@www.chicagoappleseed.org
SUMMARY:Keynote: Dr. Traci Burch (Virtual Pro Bono Spotlight)
DESCRIPTION:Virtual Pro Bono Spotlight Event – Keynote: Dr. Traci Burch\n\n\nWednesday\, May 19\, 2021 (12-1:30 PM) – Keynote Presentation\n\n\nTraci Burch\, PhD\, Associate Professor\, Northwestern University Department of Political Science & Research Professor\, American Bar Foundation\n\n\nClick here to RSVP for the May 19 keynote.\n\n\n\n\nOur digital events will be hosted on CollaborationForJustice.org. \nMay 2021: Chicago Appleseed and the Chicago Council of Lawyers are launching a two-part virtual Spotlight Event to celebrate the strides toward justice we and our collaboration partners have made in the past year. Without our community and coalition partners; pro bono teams from over a dozen firms and law schools; loyal donors and funders; and hundreds of individual volunteers\, none of our work would be possible. Click here for more information.\nTo sponsor the Collaboration for Justice Spring Pro Bono Spotlight Event\, click here.
URL:https://www.chicagoappleseed.org/event/2021-may-spotlight-keynote/
CATEGORIES:Pro Bono Spotlight
END:VEVENT
BEGIN:VEVENT
DTSTART;TZID=America/Chicago:20210512T120000
DTEND;TZID=America/Chicago:20210512T133000
DTSTAMP:20260423T085003
CREATED:20210216T163448Z
LAST-MODIFIED:20210407T134942Z
UID:14306-1620820800-1620826200@www.chicagoappleseed.org
SUMMARY:Criminal Justice Panel (Virtual Pro Bono Spotlight)
DESCRIPTION:Virtual Pro Bono Spotlight Event – Criminal Justice Panel\n\n\nWednesday\, May 12\, 2021 (12-1:30 PM) – Criminal Justice Panel \n\n\nPanelists: Sarah Staudt\, Collaboration for Justice of Chicago Appleseed Center for Fair Courts & Chicago Council of Lawyers; Cathryn Crawford\, Lawndale Christian Legal Center; April Preyar\, Schiller Preyar Jarard & Samuels Law; Sharone Mitchell\, Jr.\, Cook County Public Defender\, and Tanya Woods\, Westside Justice Center.\n\n\n1.25 hours MCLE credit available.\n\n\nClick here to RSVP for the May 12 panel.\n\n\n\n\nOur digital events will be hosted on CollaborationForJustice.org. \nMay 2021: Chicago Appleseed and the Chicago Council of Lawyers are launching a two-part virtual Spotlight Event to celebrate the strides toward justice we and our collaboration partners have made in the past year. Without our community and coalition partners; pro bono teams from over a dozen firms and law schools; loyal donors and funders; and hundreds of individual volunteers\, none of our work would be possible. Click here for more information.\nTo sponsor the Collaboration for Justice Spring Pro Bono Spotlight Event\, click here.
URL:https://www.chicagoappleseed.org/event/2021-may-spotlight-panel/
CATEGORIES:Pro Bono Spotlight
END:VEVENT
END:VCALENDAR