BEGIN:VCALENDAR
VERSION:2.0
PRODID:-//Chicago Appleseed Center for Fair Courts - ECPv6.15.20//NONSGML v1.0//EN
CALSCALE:GREGORIAN
METHOD:PUBLISH
X-ORIGINAL-URL:https://www.chicagoappleseed.org
X-WR-CALDESC:Events for Chicago Appleseed Center for Fair Courts
REFRESH-INTERVAL;VALUE=DURATION:PT1H
X-Robots-Tag:noindex
X-PUBLISHED-TTL:PT1H
BEGIN:VTIMEZONE
TZID:America/Chicago
BEGIN:DAYLIGHT
TZOFFSETFROM:-0600
TZOFFSETTO:-0500
TZNAME:CDT
DTSTART:20200308T080000
END:DAYLIGHT
BEGIN:STANDARD
TZOFFSETFROM:-0500
TZOFFSETTO:-0600
TZNAME:CST
DTSTART:20201101T070000
END:STANDARD
BEGIN:DAYLIGHT
TZOFFSETFROM:-0600
TZOFFSETTO:-0500
TZNAME:CDT
DTSTART:20210314T080000
END:DAYLIGHT
BEGIN:STANDARD
TZOFFSETFROM:-0500
TZOFFSETTO:-0600
TZNAME:CST
DTSTART:20211107T070000
END:STANDARD
BEGIN:DAYLIGHT
TZOFFSETFROM:-0600
TZOFFSETTO:-0500
TZNAME:CDT
DTSTART:20220313T080000
END:DAYLIGHT
BEGIN:STANDARD
TZOFFSETFROM:-0500
TZOFFSETTO:-0600
TZNAME:CST
DTSTART:20221106T070000
END:STANDARD
END:VTIMEZONE
BEGIN:VEVENT
DTSTART;TZID=America/Chicago:20210713T100000
DTEND;TZID=America/Chicago:20210713T130000
DTSTAMP:20260423T161510
CREATED:20210611T160107Z
LAST-MODIFIED:20210611T161056Z
UID:14772-1626170400-1626181200@www.chicagoappleseed.org
SUMMARY:Public Hearing - Illinois Supreme Court Statutory Court Fees Task Force
DESCRIPTION:Public Hearing – Illinois Supreme Court Statutory Court Fees Task Force\nOn July 13\, 2021\, at 10:00 AM (CT)\, the Illinois Supreme Court Statutory Court Fees Task Force will hold a public hearing (via Zoom) on the following topics:\n\n\nFiscal impact of the Criminal and Traffic Assessment Act (CTAA) and related Supreme Court rules pertaining to fees and costs imposed on parties to civil\, criminal\, and traffic proceedings;\n\n\nHow to address issues that have arisen with respect to implementation of the above CTAA measures;\n\n\nIssues not addressed by the CTAA\, including waivers in traffic cases\, juvenile cases\, the elimination of assessments in criminal cases with long sentences; and\n\n\nData reporting on the imposition\, collection\, and waivers of court costs and fees.\n\n\nClick here for the Notice of Public Hearing (July 13\, 2021)\, which includes information about how to provide written or oral testimony.\nMore information about the Supreme Court’s Task Force can be found on our blog. Click here to learn about the Criminal and Traffic Assessments Act (CTAA).
URL:https://www.chicagoappleseed.org/event/july-13-sctf-hearing/
LOCATION:Online – YouTube
CATEGORIES:Public Hearing
END:VEVENT
BEGIN:VEVENT
DTSTART;TZID=America/Chicago:20210616T100000
DTEND;TZID=America/Chicago:20210616T170000
DTSTAMP:20260423T161510
CREATED:20210611T173907Z
LAST-MODIFIED:20210611T174624Z
UID:14786-1623837600-1623862800@www.chicagoappleseed.org
SUMMARY:Oral Arguments - People v. Gomez-Ramirez (AMITA Health and Alexian Brothers)
DESCRIPTION:Oral Arguments – People v. Gomez-Ramirez (Case No. 3-20-0121)\nOn Friday\, July 10\, 2020\, Chicago Appleseed and Chicago Council of Lawyers submit an amicus brief in the Illinois appellate case of People v. Gomez-Ramirez (AMITA Health Adventist Medical Center\, Bolingbrook\, and Alexian Brothers-AHS Midwest Region Health Co.\, Contemners-Appellants). Our pro bono partners at DLA Piper served as counsel for the amicus brief\, filed in support of AMITA Health. At issue in our briefing was the State’s Attorney’s improper assertion of a right to search the victim’s health records\, based on mere supposition about the contents of the records.\nWe sought leave to file an amicus as part of our role in monitoring State’s Attorneys’ offices and reporting on the status of prosecution in Illinois.\nBriefing has finally concluded in the case and oral arguments are scheduled to begin on June 16 at 9:00 AM. These arguments will take place via Zoom and\, as expected\, Amici will not argue.\nTo view the Call of the Docket\, visit http://www.illinoiscourts.gov. Under the heading Appellate Court\, select Oral Argument Calendars\, then Third District\, then the session for June 16\, 2021 at 9:00 AM. The case number is 3-20-0121.
URL:https://www.chicagoappleseed.org/event/oral-argument-people-v-gomez-ramirez/
CATEGORIES:Public Hearing
END:VEVENT
END:VCALENDAR